BEGIN:VCALENDAR
VERSION:2.0
PRODID:-//Mitchell PTC - Needham, MA - ECPv6.11.2//NONSGML v1.0//EN
CALSCALE:GREGORIAN
METHOD:PUBLISH
X-ORIGINAL-URL:https://mitchellptc.org
X-WR-CALDESC:Events for Mitchell PTC - Needham, MA
REFRESH-INTERVAL;VALUE=DURATION:PT1H
X-Robots-Tag:noindex
X-PUBLISHED-TTL:PT1H
BEGIN:VTIMEZONE
TZID:America/New_York
BEGIN:DAYLIGHT
TZOFFSETFROM:-0500
TZOFFSETTO:-0400
TZNAME:EDT
DTSTART:20260308T070000
END:DAYLIGHT
BEGIN:STANDARD
TZOFFSETFROM:-0400
TZOFFSETTO:-0500
TZNAME:EST
DTSTART:20261101T060000
END:STANDARD
END:VTIMEZONE
BEGIN:VEVENT
DTSTART;TZID=America/New_York:20260603T121500
DTEND;TZID=America/New_York:20260603T121500
DTSTAMP:20260420T052737
CREATED:20240706T194228Z
LAST-MODIFIED:20250814T153016Z
UID:2416-1780488900-1780488900@mitchellptc.org
SUMMARY:Early Release (PreK-6)
DESCRIPTION:
URL:https://mitchellptc.org/event/early-release-15/
CATEGORIES:Needham Public Schools
END:VEVENT
BEGIN:VEVENT
DTSTART;TZID=America/New_York:20260605T180000
DTEND;TZID=America/New_York:20260605T200000
DTSTAMP:20260420T052737
CREATED:20240706T191744Z
LAST-MODIFIED:20250814T144525Z
UID:2358-1780682400-1780689600@mitchellptc.org
SUMMARY:Mitchell Picnic
DESCRIPTION:
URL:https://mitchellptc.org/event/mitchell-picnic-3/
CATEGORIES:PTC Events
END:VEVENT
BEGIN:VEVENT
DTSTART;TZID=America/New_York:20260608T080000
DTEND;TZID=America/New_York:20260608T170000
DTSTAMP:20260420T052737
CREATED:20250814T144600Z
LAST-MODIFIED:20250814T144600Z
UID:2962-1780905600-1780938000@mitchellptc.org
SUMMARY:Mitchell Picnic (Rain Date)
DESCRIPTION:
URL:https://mitchellptc.org/event/mitchell-picnic-rain-date/
CATEGORIES:PTC Events
END:VEVENT
BEGIN:VEVENT
DTSTART;TZID=America/New_York:20260612T080000
DTEND;TZID=America/New_York:20260612T170000
DTSTAMP:20260420T052737
CREATED:20250814T153308Z
LAST-MODIFIED:20250814T153308Z
UID:2989-1781251200-1781283600@mitchellptc.org
SUMMARY:Last Day of School Luncheon
DESCRIPTION:
URL:https://mitchellptc.org/event/last-day-of-school-luncheon/
CATEGORIES:PTC Events
END:VEVENT
BEGIN:VEVENT
DTSTART;TZID=America/New_York:20260616T121500
DTEND;TZID=America/New_York:20260616T121500
DTSTAMP:20260420T052737
CREATED:20240706T194337Z
LAST-MODIFIED:20250814T144444Z
UID:2420-1781612100-1781612100@mitchellptc.org
SUMMARY:Last Day of School (No Snow Days) - Early Release
DESCRIPTION:
URL:https://mitchellptc.org/event/last-day-of-school-no-snow-days-early-release-2/
CATEGORIES:Needham Public Schools
END:VEVENT
BEGIN:VEVENT
DTSTART;VALUE=DATE:20260619
DTEND;VALUE=DATE:20260620
DTSTAMP:20260420T052737
CREATED:20240706T194810Z
LAST-MODIFIED:20250814T150723Z
UID:2424-1781827200-1781913599@mitchellptc.org
SUMMARY:No School (Juneteenth)
DESCRIPTION:
URL:https://mitchellptc.org/event/no-school-juneteenth/
CATEGORIES:Needham Public Schools
END:VEVENT
BEGIN:VEVENT
DTSTART;TZID=America/New_York:20260624T121500
DTEND;TZID=America/New_York:20260624T121500
DTSTAMP:20260420T052737
CREATED:20250624T194739Z
LAST-MODIFIED:20250814T144416Z
UID:2422-1782303300-1782303300@mitchellptc.org
SUMMARY:Last Day of School (5 Snow Days) - Early Release
DESCRIPTION:
URL:https://mitchellptc.org/event/last-day-of-school-5-snow-days-early-release/
CATEGORIES:Needham Public Schools
END:VEVENT
END:VCALENDAR