BEGIN:VCALENDAR
VERSION:2.0
PRODID:-//Mitchell PTC - Needham, MA - ECPv6.11.2//NONSGML v1.0//EN
CALSCALE:GREGORIAN
METHOD:PUBLISH
X-WR-CALNAME:Mitchell PTC - Needham, MA
X-ORIGINAL-URL:https://mitchellptc.org
X-WR-CALDESC:Events for Mitchell PTC - Needham, MA
REFRESH-INTERVAL;VALUE=DURATION:PT1H
X-Robots-Tag:noindex
X-PUBLISHED-TTL:PT1H
BEGIN:VTIMEZONE
TZID:America/New_York
BEGIN:DAYLIGHT
TZOFFSETFROM:-0500
TZOFFSETTO:-0400
TZNAME:EDT
DTSTART:20260308T070000
END:DAYLIGHT
BEGIN:STANDARD
TZOFFSETFROM:-0400
TZOFFSETTO:-0500
TZNAME:EST
DTSTART:20261101T060000
END:STANDARD
END:VTIMEZONE
BEGIN:VEVENT
DTSTART;TZID=America/New_York:20260506T121500
DTEND;TZID=America/New_York:20260506T121500
DTSTAMP:20260420T053431
CREATED:20240706T194151Z
LAST-MODIFIED:20250814T152924Z
UID:2414-1778069700-1778069700@mitchellptc.org
SUMMARY:Early Release (PreK-12)
DESCRIPTION:
URL:https://mitchellptc.org/event/early-release-14/
CATEGORIES:Needham Public Schools
END:VEVENT
BEGIN:VEVENT
DTSTART;VALUE=DATE:20260525
DTEND;VALUE=DATE:20260526
DTSTAMP:20260420T053431
CREATED:20240706T194253Z
LAST-MODIFIED:20250814T144650Z
UID:2418-1779667200-1779753599@mitchellptc.org
SUMMARY:No School (Memorial Day)
DESCRIPTION:
URL:https://mitchellptc.org/event/no-school-memorial-day-3/
CATEGORIES:Needham Public Schools
END:VEVENT
END:VCALENDAR