BEGIN:VCALENDAR
VERSION:2.0
PRODID:-//Mitchell PTC - Needham, MA - ECPv6.11.2//NONSGML v1.0//EN
CALSCALE:GREGORIAN
METHOD:PUBLISH
X-WR-CALNAME:Mitchell PTC - Needham, MA
X-ORIGINAL-URL:https://mitchellptc.org
X-WR-CALDESC:Events for Mitchell PTC - Needham, MA
REFRESH-INTERVAL;VALUE=DURATION:PT1H
X-Robots-Tag:noindex
X-PUBLISHED-TTL:PT1H
BEGIN:VTIMEZONE
TZID:America/New_York
BEGIN:DAYLIGHT
TZOFFSETFROM:-0500
TZOFFSETTO:-0400
TZNAME:EDT
DTSTART:20260308T070000
END:DAYLIGHT
BEGIN:STANDARD
TZOFFSETFROM:-0400
TZOFFSETTO:-0500
TZNAME:EST
DTSTART:20261101T060000
END:STANDARD
END:VTIMEZONE
BEGIN:VEVENT
DTSTART;TZID=America/New_York:20260304T121500
DTEND;TZID=America/New_York:20260304T121500
DTSTAMP:20260420T053431
CREATED:20240706T193534Z
LAST-MODIFIED:20250814T152444Z
UID:2402-1772626500-1772626500@mitchellptc.org
SUMMARY:Early Release (PreK-6)
DESCRIPTION:
URL:https://mitchellptc.org/event/early-release-10/
CATEGORIES:Needham Public Schools
END:VEVENT
BEGIN:VEVENT
DTSTART;TZID=America/New_York:20260318T121500
DTEND;TZID=America/New_York:20260318T121500
DTSTAMP:20260420T053431
CREATED:20240706T193556Z
LAST-MODIFIED:20250814T152616Z
UID:2404-1773836100-1773836100@mitchellptc.org
SUMMARY:Early Release (PreK-12)
DESCRIPTION:
URL:https://mitchellptc.org/event/early-release-11/
CATEGORIES:Needham Public Schools
END:VEVENT
END:VCALENDAR