BEGIN:VCALENDAR
VERSION:2.0
PRODID:-//Mitchell PTC - Needham, MA - ECPv6.11.2//NONSGML v1.0//EN
CALSCALE:GREGORIAN
METHOD:PUBLISH
X-WR-CALNAME:Mitchell PTC - Needham, MA
X-ORIGINAL-URL:https://mitchellptc.org
X-WR-CALDESC:Events for Mitchell PTC - Needham, MA
REFRESH-INTERVAL;VALUE=DURATION:PT1H
X-Robots-Tag:noindex
X-PUBLISHED-TTL:PT1H
BEGIN:VTIMEZONE
TZID:America/New_York
BEGIN:DAYLIGHT
TZOFFSETFROM:-0500
TZOFFSETTO:-0400
TZNAME:EDT
DTSTART:20250309T070000
END:DAYLIGHT
BEGIN:STANDARD
TZOFFSETFROM:-0400
TZOFFSETTO:-0500
TZNAME:EST
DTSTART:20251102T060000
END:STANDARD
BEGIN:DAYLIGHT
TZOFFSETFROM:-0500
TZOFFSETTO:-0400
TZNAME:EDT
DTSTART:20260308T070000
END:DAYLIGHT
BEGIN:STANDARD
TZOFFSETFROM:-0400
TZOFFSETTO:-0500
TZNAME:EST
DTSTART:20261101T060000
END:STANDARD
END:VTIMEZONE
BEGIN:VEVENT
DTSTART;TZID=America/New_York:20251203T121500
DTEND;TZID=America/New_York:20251203T121500
DTSTAMP:20260422T063935
CREATED:20240706T193044Z
LAST-MODIFIED:20250814T151846Z
UID:2384-1764764100-1764764100@mitchellptc.org
SUMMARY:Early Release (PreK-6)
DESCRIPTION:
URL:https://mitchellptc.org/event/early-release-5/
CATEGORIES:Needham Public Schools
END:VEVENT
BEGIN:VEVENT
DTSTART;TZID=America/New_York:20251217T121500
DTEND;TZID=America/New_York:20251217T121500
DTSTAMP:20260422T063935
CREATED:20240706T193144Z
LAST-MODIFIED:20250814T151936Z
UID:2386-1765973700-1765973700@mitchellptc.org
SUMMARY:Early Release (PreK-12)
DESCRIPTION:
URL:https://mitchellptc.org/event/early-release-6/
CATEGORIES:Needham Public Schools
END:VEVENT
BEGIN:VEVENT
DTSTART;VALUE=DATE:20251224
DTEND;VALUE=DATE:20260105
DTSTAMP:20260422T063935
CREATED:20240706T193213Z
LAST-MODIFIED:20250814T152017Z
UID:2388-1766534400-1767571199@mitchellptc.org
SUMMARY:Winter Recess
DESCRIPTION:
URL:https://mitchellptc.org/event/winter-recess-2/
CATEGORIES:Needham Public Schools
END:VEVENT
END:VCALENDAR