BEGIN:VCALENDAR
VERSION:2.0
PRODID:-//Mitchell PTC - Needham, MA - ECPv6.11.2//NONSGML v1.0//EN
CALSCALE:GREGORIAN
METHOD:PUBLISH
X-WR-CALNAME:Mitchell PTC - Needham, MA
X-ORIGINAL-URL:https://mitchellptc.org
X-WR-CALDESC:Events for Mitchell PTC - Needham, MA
REFRESH-INTERVAL;VALUE=DURATION:PT1H
X-Robots-Tag:noindex
X-PUBLISHED-TTL:PT1H
BEGIN:VTIMEZONE
TZID:America/New_York
BEGIN:DAYLIGHT
TZOFFSETFROM:-0500
TZOFFSETTO:-0400
TZNAME:EDT
DTSTART:20250309T070000
END:DAYLIGHT
BEGIN:STANDARD
TZOFFSETFROM:-0400
TZOFFSETTO:-0500
TZNAME:EST
DTSTART:20251102T060000
END:STANDARD
END:VTIMEZONE
BEGIN:VEVENT
DTSTART;TZID=America/New_York:20251008T121500
DTEND;TZID=America/New_York:20251008T121500
DTSTAMP:20260422T091313
CREATED:20240706T192437Z
LAST-MODIFIED:20250814T151247Z
UID:2370-1759925700-1759925700@mitchellptc.org
SUMMARY:Early Release (PreK-12)
DESCRIPTION:
URL:https://mitchellptc.org/event/early-release-2/
CATEGORIES:Needham Public Schools
END:VEVENT
BEGIN:VEVENT
DTSTART;VALUE=DATE:20251013
DTEND;VALUE=DATE:20251014
DTSTAMP:20260422T091313
CREATED:20240706T192714Z
LAST-MODIFIED:20250814T151340Z
UID:2372-1760313600-1760399999@mitchellptc.org
SUMMARY:No School (Indigenous Peoples' Day)
DESCRIPTION:
URL:https://mitchellptc.org/event/no-school-indigenous-peoples-day-3/
CATEGORIES:Needham Public Schools
END:VEVENT
BEGIN:VEVENT
DTSTART;TZID=America/New_York:20251022T121500
DTEND;TZID=America/New_York:20251022T121500
DTSTAMP:20260422T091313
CREATED:20240706T192745Z
LAST-MODIFIED:20250814T151424Z
UID:2374-1761135300-1761135300@mitchellptc.org
SUMMARY:Early Release (PreK-6)
DESCRIPTION:
URL:https://mitchellptc.org/event/early-release-3/
CATEGORIES:Needham Public Schools
END:VEVENT
END:VCALENDAR